BEGIN:VCALENDAR
METHOD:PUBLISH
PRODID:-//github.com/rianjs/ical.net//NONSGML ical.net 4.0//EN
VERSION:2.0
X-WR-CALNAME:Tesla STEM PTSA 2.8.105
BEGIN:VEVENT
CREATED:20260330T150341
DTEND:20260401T065900Z
DTSTAMP:20260426T010322Z
DTSTART:20260331T070100Z
LAST-MODIFIED:20260330T150422
SEQUENCE:0
STATUS:CONFIRMED
SUMMARY:Senior celebration ticket sale - $130 Starts
TRANSP:TRANSPARENT
UID:145479@ourschoolpages.com
END:VEVENT
END:VCALENDAR
